BEGIN:VCALENDAR
VERSION:2.0
PRODID:-//eventon.com NONSGML v1.0//EN
CALSCALE:GREGORIAN
METHOD:PUBLISH
BEGIN:VEVENT
UID:69ed3a4b918ee
DTSTAMP:20260425T220355Z
DTSTART:20260416T070000Z
DTEND:20260417T120000Z
LOCATION:Eutiner Landesbibliothek Schlosspatz 4\,  23701 Eutin
SUMMARY:Eutin: Zucht\,  Erziehung oder Bildung? – Initiation von Weiblichkeit in Holstein zwischen 1810 und 1914
DESCRIPTION:Vom 16. bis 17. April 2026 findet in der Eutiner Landesbiblioth
 ek eine wissenschaftliche Tagung unter dem Titel „Zucht\,  Erziehung oder
  Bildung? – Initiation von Weiblichkeit in Holstein zwischen 1810 und 191
 4“ statt\,  mit welcher die Bibliothek ihre Arbeit zur Geschichte und Lit
 eratur von Frauen fortsetzt. Die Tagung der Arbeitsstelle für[..]\nhttps:/
 /schleswig-holstein.sh/blog/veranstaltungen/eutin-zucht-erziehung-oder-bild
 ung-initiation-von-weiblichkeit-in-holstein-zwischen-1810-und-1914/
URL:https://schleswig-holstein.sh/blog/veranstaltungen/eutin-zucht-erziehung-oder-bildung-initiation-von-weiblichkeit-in-holstein-zwischen-1810-und-1914/
END:VEVENT
END:VCALENDAR