BEGIN:VCALENDAR
VERSION:2.0
PRODID:-//eventon.com NONSGML v1.0//EN
CALSCALE:GREGORIAN
METHOD:PUBLISH
BEGIN:VEVENT
UID:69e789c28f225
DTSTAMP:20260421T142922Z
DTSTART:20260415T170000Z
DTEND:20260415T215900Z
LOCATION:Eutiner Landesbibliothek Schlosspatz 4\,  23701 Eutin
SUMMARY:Eutin: „Ein ziemlich vollständiger Lebensfaden“
DESCRIPTION:Zum Auftakt der wissenschaftlichen Tagung „Zucht\,  Erziehung
  oder Bildung? – Initiation von Weiblichkeit in Holstein zwischen 1810 un
 d 1914“ am 16. und 17. April 2026 und vor dem Hintergrund des diesjährig
 en Johann Heinrich Voß-Jubiläums\,  beleuchtet und würdigt Dr. Maike Man
 ske von der Schleswig-Holsteinischen Landesbibliothek Kiel in ihrem Abendvo
 rtrag „‚Ein ziemlich[..]\nhttps://schleswig-holstein.sh/blog/veranstalt
 ungen/eutin-ein-ziemlich-vollstaendiger-lebensfaden/
URL:https://schleswig-holstein.sh/blog/veranstaltungen/eutin-ein-ziemlich-vollstaendiger-lebensfaden/
END:VEVENT
END:VCALENDAR