BEGIN:VCALENDAR
VERSION:2.0
PRODID:-//eventon.com NONSGML v1.0//EN
CALSCALE:GREGORIAN
METHOD:PUBLISH
BEGIN:VEVENT
UID:69e7b2af69df6
DTSTAMP:20260421T172359Z
DTSTART:20260409T150000Z
DTEND:20260409T215900Z
LOCATION:Eutiner Landesbibliothek Schlosspatz 4\,  23701 Eutin
SUMMARY:Eutin: Feierabendführung zu historischen Beständen der Eutiner Schulbibliothek
DESCRIPTION:Bei der nächsten Feierabendführung stellt der Leiter der Euti
 ner Landesbibliothek\,  Prof. Dr. Axel E. Walter\,  die Bestände der einst
 igen Schulbibliothek vor\,  die an der Eutiner Lateinschule seit spätesten
 s der ersten Hälfte des 18. Jahrhunderts existierte. Diese Bibliothek\,  d
 ie kontinuierlich wuchs\,  gehörte im Jahre 1837 zu den Gründungsbeständ
 en der heutigen Eutiner[..]\nhttps://schleswig-holstein.sh/blog/veranstaltu
 ngen/eutin-feierabendfuehrung-zu-historischen-bestaenden-der-eutiner-schulb
 ibliothek/
URL:https://schleswig-holstein.sh/blog/veranstaltungen/eutin-feierabendfuehrung-zu-historischen-bestaenden-der-eutiner-schulbibliothek/
END:VEVENT
END:VCALENDAR