BEGIN:VCALENDAR
VERSION:2.0
PRODID:-//eventon.com NONSGML v1.0//EN
CALSCALE:GREGORIAN
METHOD:PUBLISH
BEGIN:VEVENT
UID:69e772d30a440
DTSTAMP:20260421T125131Z
DTSTART:20260417T173000Z
DTEND:20260417T200000Z
LOCATION:Slesvighus Lollfuß 89\,  Schleswig\,  Schleswig-Holstein 24837\,  Deutschland
SUMMARY:DÄNISCHER ABEND mit Schriftsteller Oliver Lück und der dänischen Band The White Album
DESCRIPTION:Der NORDEN Freundeskreis e.V. lädt ein zu einem besonderen Abe
 nd rund um das Thema Dänemark – voller Geschichten\,  Klänge und nordis
 cher Atmosphäre. Freuen Sie sich auf eine Lesung des Autors Oliver Lück\,
   der mit ausgewählten Reiseberichten ein lebendiges und facettenreiches B
 ild Dänemarks zeichnet. Mit feinem Gespür für Menschen und ihre[..]\nhtt
 ps://schleswig-holstein.sh/blog/veranstaltungen/daenischer-abend-mit-schrif
 tsteller-oliver-lueck-und-der-daenischen-band-the-white-album-2/
URL:https://schleswig-holstein.sh/blog/veranstaltungen/daenischer-abend-mit-schriftsteller-oliver-lueck-und-der-daenischen-band-the-white-album-2/
END:VEVENT
END:VCALENDAR