BEGIN:VCALENDAR
VERSION:2.0
PRODID:-//eventon.com NONSGML v1.0//EN
CALSCALE:GREGORIAN
METHOD:PUBLISH
BEGIN:VEVENT
UID:69ecc2813073e
DTSTAMP:20260425T133249Z
DTSTART:20260507T173000Z
DTEND:20260507T190000Z
LOCATION:Otto-von-Bismarck-Stiftung Am Bahnhof 2\,  21521 Friedrichsruh
SUMMARY:Friedrichsruh: Konrad Adenauer – Leben in Zeiten des Umbruchs
DESCRIPTION:Vor 150 Jahren\,  am 5. Januar 1876\,  wurde Konrad Adenauer in
  Köln geboren – ein Kind des Deutschen Kaiserreichs\,  das den ersten Ra
 hmen seiner politischen Sozialisation bot. Auf Einladung der Otto-von-Bisma
 rck-Stiftung erinnert der Historiker Dr. Holger Löttel\,  Leiter der Abtei
 lung Edition und Wissenschaft der Stiftung Bundeskanzler-Adenauer-Haus\,  i
 n seinem Vortrag an[..]\nhttps://schleswig-holstein.sh/blog/veranstaltungen
 /friedrichsruh-konrad-adenauer-leben-in-zeiten-des-umbruchs/
URL:https://schleswig-holstein.sh/blog/veranstaltungen/friedrichsruh-konrad-adenauer-leben-in-zeiten-des-umbruchs/
END:VEVENT
END:VCALENDAR