BEGIN:VCALENDAR
VERSION:2.0
PRODID:-//eventon.com NONSGML v1.0//EN
CALSCALE:GREGORIAN
METHOD:PUBLISH
BEGIN:VEVENT
UID:69e6537491a97
DTSTAMP:20260420T162524Z
DTSTART:20260418T170000Z
DTEND:20260418T194500Z
LOCATION:Stadthalle Neumünster Kleinflecken 1\,  24534 Neumünster
SUMMARY:LODS - Das Flötenorchester: Gewaltiger Sound mit großem Schlagwerk
DESCRIPTION:LODS – Das Flötenorchester: Gewaltiger Sound mit großem Sch
 lagwerk Vergessen Sie alles\,  was Sie über Flöten zu wissen glaubten! We
 nn das LODS – Das Flötenorchester die Bühne betritt\,  erwartet Sie kei
 n leises Kammerspiel\,  sondern ein orchestrales Kraftpaket. Als Landesausw
 ahlorchester des Musikerverbandes Schleswig-Holstein vereinen wir ambitioni
 erte Amateurmusikerinnen und -musiker aus dem[..]\nhttps://schleswig-holste
 in.sh/blog/veranstaltungen/lods-das-floetenorchester-gewaltiger-sound-mit-g
 rossem-schlagwerk/
URL:https://schleswig-holstein.sh/blog/veranstaltungen/lods-das-floetenorchester-gewaltiger-sound-mit-grossem-schlagwerk/
END:VEVENT
END:VCALENDAR