BEGIN:VCALENDAR
VERSION:2.0
PRODID:-//eventon.com NONSGML v1.0//EN
CALSCALE:GREGORIAN
METHOD:PUBLISH
BEGIN:VEVENT
UID:69eb564b3ad9a
DTSTAMP:20260424T113851Z
DTSTART:20260417T090000Z
DTEND:20260726T090000Z
LOCATION:Tuch + Technik Textilmuseum Neumünster Kleinflecken 1\,  24534 Neumünster
SUMMARY:Neumünster: Ausstellung „Grün Stadt Grau“
DESCRIPTION:Wie leben wir in 20\,  50 oder 100 Jahren? Eine Vorstellung dav
 on bekommen Besu-cher*innen des Museums Tuch Technik in der neuen Sonderaus
 stellung „Grün Stadt Grau“\,  in der sie sich auf eine Reise in die zu
 kunftsfähige Stadt von heute und morgen begeben. Die Ausstellung wird geme
 insam vom Museum und der Stadt[..]\nhttps://schleswig-holstein.sh/blog/vera
 nstaltungen/neumuenster-ausstellung-gruen-stadt-grau/
URL:https://schleswig-holstein.sh/blog/veranstaltungen/neumuenster-ausstellung-gruen-stadt-grau/
END:VEVENT
END:VCALENDAR