BEGIN:VCALENDAR
VERSION:2.0
PRODID:-//eventon.com NONSGML v1.0//EN
CALSCALE:GREGORIAN
METHOD:PUBLISH
BEGIN:VEVENT
UID:69eb7d58d619e
DTSTAMP:20260424T142528Z
DTSTART:20260418T160000Z
DTEND:20260509T120000Z
LOCATION:
SUMMARY:ARTLER Kunstkollektiv\,  Große Burgstraße 32\,  Lübeck IN RESONANZ
DESCRIPTION:&#8222;In Resonanz&#8220; Das ARTLER Kunstkollektiv stellt zwei
  malerische Positionen vor. Maike Remane und Martina Müller : vielchichtig
  und dialogisch\,  mit starker Präsenz in Kraft und Ausdruck der Farbe\,  
 im Gestus dynamisch und ruhig\,  bewegt und ausbalanciert\nhttps://schleswi
 g-holstein.sh/blog/veranstaltungen/artler-kunstkollektiv-grosse-burgstrasse
 -32-luebeck-in-resonanz/
URL:https://schleswig-holstein.sh/blog/veranstaltungen/artler-kunstkollektiv-grosse-burgstrasse-32-luebeck-in-resonanz/
END:VEVENT
END:VCALENDAR