BEGIN:VCALENDAR
VERSION:2.0
PRODID:-//eventon.com NONSGML v1.0//EN
CALSCALE:GREGORIAN
METHOD:PUBLISH
BEGIN:VEVENT
UID:69e6536c27db4
DTSTAMP:20260420T162516Z
DTSTART:20260401T073000Z
DTEND:20260401T091500Z
LOCATION:LÃ¼neburg Haus DÃ¤nische StraÃŸe 22\,  Kiel\,  Schleswig-Holstein 24103\,  Deutschland
SUMMARY:â€žKultur\,  Croissants & KonfitÃ¼reâ€œ
DESCRIPTION:Nach einem morgendlichen Kultur-FrÃ¼hstÃ¼ck im LÃ¼neburg-Haus\,
   bieten wir â€žkulturhungrigenâ€œ Besucherinnen und Besuchern eine FÃ¼hrun
 g mit der Kunsthistorikerin Dr. Birte Gaethke durch die aktuelle Ausstellun
 g an. Start: LÃ¼neburg-Haus\,  DÃ¤nische StraÃŸe 22 Anmeldungen unter 0431 
 982 6000 Eintritt: 21\, 50 Euro pro Person (inklusive FÃ¼hrung und FrÃ¼hstÃ
 ¼ck)\nhttps://schleswig-holstein.sh/blog/veranstaltungen/kultur-croissants-
 konfituere-2/
URL:https://schleswig-holstein.sh/blog/veranstaltungen/kultur-croissants-konfituere-2/
END:VEVENT
END:VCALENDAR