BEGIN:VCALENDAR
VERSION:2.0
PRODID:-//eventon.com NONSGML v1.0//EN
CALSCALE:GREGORIAN
METHOD:PUBLISH
BEGIN:VEVENT
UID:69e6535034a26
DTSTAMP:20260420T162448Z
DTSTART:20260712T093000Z
DTEND:20260712T103000Z
LOCATION:Stadtmuseum Warleberger Hof Dänische Straße 19\,  24103 Kiel
SUMMARY:Sonntagsführungen durch die Ausstellung "Momente einer Stadt – Die Kieler Lichtbildstelle 1900-1950“
DESCRIPTION:Stadtmuseum Warleberger Hof\,  Dänische Straße 19 Eintritt fr
 ei\nhttps://schleswig-holstein.sh/blog/veranstaltungen/sonntagsfuehrungen-d
 urch-die-ausstellung-momente-einer-stadt-die-kieler-lichtbildstelle-1900-19
 50/var/ri-2.l-L1
URL:https://schleswig-holstein.sh/blog/veranstaltungen/sonntagsfuehrungen-durch-die-ausstellung-momente-einer-stadt-die-kieler-lichtbildstelle-1900-1950/var/ri-2.l-L1
END:VEVENT
END:VCALENDAR