BEGIN:VCALENDAR
VERSION:2.0
PRODID:-//eventon.com NONSGML v1.0//EN
CALSCALE:GREGORIAN
METHOD:PUBLISH
BEGIN:VEVENT
UID:69e66857f0842
DTSTAMP:20260420T175431Z
DTSTART:20260830T133000Z
DTEND:20260830T143000Z
LOCATION:Stadtmuseum Warleberger Hof Dänische Straße 19\,  24103 Kiel
SUMMARY:Sonntagsführungen durch die Ausstellung "Gestern\,  heute\,  morgen.
DESCRIPTION:Perspektiven auf die Sammlung des Kieler Stadt- und Schifffahrt
 smuseums“ Stadtmuseum Warleberger Hof\,  Dänische Straße 19 Anmeldungen
  unter 0431 901 3425 Eintritt frei\nhttps://schleswig-holstein.sh/blog/vera
 nstaltungen/sonntagsfuehrungen-durch-die-ausstellung-gestern-heute-morgen/v
 ar/ri-3.l-L1
URL:https://schleswig-holstein.sh/blog/veranstaltungen/sonntagsfuehrungen-durch-die-ausstellung-gestern-heute-morgen/var/ri-3.l-L1
END:VEVENT
END:VCALENDAR