BEGIN:VCALENDAR
VERSION:2.0
PRODID:-//eventon.com NONSGML v1.0//EN
CALSCALE:GREGORIAN
METHOD:PUBLISH
BEGIN:VEVENT
UID:69e66852b4f07
DTSTAMP:20260420T175426Z
DTSTART:20260406T143000Z
DTEND:20260406T160000Z
LOCATION:Stadtmuseum Warleberger Hof Dänische Straße 19\,  24103 Kiel
SUMMARY:„Wo geht´s denn hier zum Schloss?“ – Ein Stadtrundgang mit der Historikerin Annette Mörke
DESCRIPTION:Bei einem Stadtspaziergang treffen wir auf einen russischen Zar
 en\,  den Erfinder des Scheibenwischers und lernen die Hintergründe der De
 nkmalkultur im Schlossgarten kennen. Treffpunkt: Stadtmuseum Warleberger Ho
 f\,  Dänische Straße 19 Anmeldungen unter 0431 901 3425 Eintritt frei\nht
 tps://schleswig-holstein.sh/blog/veranstaltungen/wo-gehts-denn-hier-zum-sch
 loss-ein-stadtrundgang-mit-der-historikerin-annette-moerke/
URL:https://schleswig-holstein.sh/blog/veranstaltungen/wo-gehts-denn-hier-zum-schloss-ein-stadtrundgang-mit-der-historikerin-annette-moerke/
END:VEVENT
END:VCALENDAR