BEGIN:VCALENDAR
VERSION:2.0
PRODID:-//eventon.com NONSGML v1.0//EN
CALSCALE:GREGORIAN
METHOD:PUBLISH
BEGIN:VEVENT
UID:69e653277ff49
DTSTAMP:20260420T162407Z
DTSTART:20260401T143000Z
DTEND:20260401T160000Z
LOCATION:
SUMMARY:â€žHoltenau â€“ Juwel am Nord-Ostsee-Kanalâ€œ â€“ Ein Stadtteilrundgang mit der Historikerin Annette MÃ¶rke
DESCRIPTION:Historischer Rundgang durch den Stadtteil Holtenau\,  der geprÃ
 ¤gt ist durch seine exponierte Lage am Nord-Ostsee-Kanal Treffpunkt: Anlege
 r an der KanalfÃ¤hre\,  KanalstraÃŸe Anmeldung unter 0431 901 3425 Eintritt
  frei\nhttps://schleswig-holstein.sh/blog/veranstaltungen/holtenau-juwel-am
 -nord-ostsee-kanal-ein-stadtteilrundgang-mit-der-historikerin-annette-moerk
 e/
URL:https://schleswig-holstein.sh/blog/veranstaltungen/holtenau-juwel-am-nord-ostsee-kanal-ein-stadtteilrundgang-mit-der-historikerin-annette-moerke/
END:VEVENT
END:VCALENDAR