BEGIN:VCALENDAR
VERSION:2.0
PRODID:-//eventon.com NONSGML v1.0//EN
CALSCALE:GREGORIAN
METHOD:PUBLISH
BEGIN:VEVENT
UID:69e6534d53fa1
DTSTAMP:20260420T162445Z
DTSTART:20260417T143000Z
DTEND:20260417T160000Z
LOCATION:
SUMMARY:„Zwischen Backsteinarchitektur und Kunstkeramik“ – historischer Stadtrundgang durchs Marineviertel mit der Kunsthistorikerin Dr. Birte Gaethke
DESCRIPTION:Das Marineviertel im Stadtteil Ravensberg wurde in den 1920er J
 ahren für Angehörige der Marine und ihre Familien gebaut. Es besticht dur
 ch seine unverwechselbare Architektur im Stil der frühen Moderne. Treffpun
 kt: Vor der apo-rot Esmarch Apotheke\,  Holtenauer Straße 149 Anmeldungen 
 unter 0431 901 3425 Eintritt frei\nhttps://schleswig-holstein.sh/blog/veran
 staltungen/zwischen-backsteinarchitektur-und-kunstkeramik-historischer-stad
 trundgang-durchs-marineviertel-mit-der-kunsthistorikerin-dr-birte-gaethke/
URL:https://schleswig-holstein.sh/blog/veranstaltungen/zwischen-backsteinarchitektur-und-kunstkeramik-historischer-stadtrundgang-durchs-marineviertel-mit-der-kunsthistorikerin-dr-birte-gaethke/
END:VEVENT
END:VCALENDAR