BEGIN:VCALENDAR
VERSION:2.0
PRODID:-//eventon.com NONSGML v1.0//EN
CALSCALE:GREGORIAN
METHOD:PUBLISH
BEGIN:VEVENT
UID:69e67fc88ce0e
DTSTAMP:20260420T193432Z
DTSTART:20260412T123000Z
DTEND:20260412T143000Z
LOCATION:Stadtmuseum Warleberger Hof Dänische Straße 19\,  24103 Kiel
SUMMARY:„Kunst\,  Collagen\,  Kuriositäten“ – Kreativworkshop mit der Künstlerin Uta Kathleen Kalthoff
DESCRIPTION:In der Ausstellung gibt es eine Fülle von Objekten\,  die nur 
 darauf warten entdeckt zu werden. Nach einem kurzen Ausstellungsrundgang ne
 hmen wir die Exponate unter die Lupe und gestalten mit der Technik der Coll
 age unser eigenes Ausstellungsobjekt. Stadtmuseum Warleberger Hof\,  Dänis
 che Straße 19 Anmeldung unter 0431 901 3425 Bitte mitbringen:[..]\nhttps:/
 /schleswig-holstein.sh/blog/veranstaltungen/kunst-collagen-kuriositaeten-kr
 eativworkshop-mit-der-kuenstlerin-uta-kathleen-kalthoff/
URL:https://schleswig-holstein.sh/blog/veranstaltungen/kunst-collagen-kuriositaeten-kreativworkshop-mit-der-kuenstlerin-uta-kathleen-kalthoff/
END:VEVENT
END:VCALENDAR