BEGIN:VCALENDAR
VERSION:2.0
PRODID:-//eventon.com NONSGML v1.0//EN
CALSCALE:GREGORIAN
METHOD:PUBLISH
BEGIN:VEVENT
UID:69eb8141d9b9f
DTSTAMP:20260424T144209Z
DTSTART:20260423T143000Z
DTEND:20260423T153000Z
LOCATION:Museumsdepot im Wissenschaftspark KuhnkestraÃŸe 6\,  Kiel\,  Schleswig Holstein 24118\,  Deutschland
SUMMARY:â€žExponate im Blickâ€œ â€“ ThemenfÃ¼hrung mit der Kunsthistorikerin Dr. Birte Gaethke
DESCRIPTION:FÃ¼hrung durch das Depot im Wissenschaftspark mit Schwerpunkt â
 €žGemÃ¤ldesammlungâ€œ Museumsdepot im Wissenschaftspark\,  KuhnkestraÃŸe 6 
 Anmeldungen unter 0431 901 3425 Eintritt frei\nhttps://schleswig-holstein.s
 h/blog/veranstaltungen/exponate-im-blick-themenfuehrung-mit-der-kunsthistor
 ikerin-dr-birte-gaethke/
URL:https://schleswig-holstein.sh/blog/veranstaltungen/exponate-im-blick-themenfuehrung-mit-der-kunsthistorikerin-dr-birte-gaethke/
END:VEVENT
END:VCALENDAR