BEGIN:VCALENDAR
VERSION:2.0
PRODID:-//eventon.com NONSGML v1.0//EN
CALSCALE:GREGORIAN
METHOD:PUBLISH
BEGIN:VEVENT
UID:69e6532ed9a98
DTSTAMP:20260420T162414Z
DTSTART:20260712T123000Z
DTEND:20260712T133000Z
LOCATION:Schifffahrtsmuseum Fischhalle Wall 65\,  24103 Kiel
SUMMARY:Sonntagsführungen durch die Ausstellung "Marine\,  Werften\,  Segelsport“ – die Geschichte der Hafenstadt Kiel
DESCRIPTION:Schifffahrtsmuseum Fischhalle\,  Wall 65 Eintritt frei\nhttps:/
 /schleswig-holstein.sh/blog/veranstaltungen/sonntagsfuehrungen-durch-die-au
 sstellung-marine-werften-segelsport-die-geschichte-der-hafenstadt-kiel/var/
 ri-2.l-L1
URL:https://schleswig-holstein.sh/blog/veranstaltungen/sonntagsfuehrungen-durch-die-ausstellung-marine-werften-segelsport-die-geschichte-der-hafenstadt-kiel/var/ri-2.l-L1
END:VEVENT
END:VCALENDAR