BEGIN:VCALENDAR
VERSION:2.0
PRODID:-//eventon.com NONSGML v1.0//EN
CALSCALE:GREGORIAN
METHOD:PUBLISH
BEGIN:VEVENT
UID:69eb7d5ca9f6f
DTSTAMP:20260424T142532Z
DTSTART:20260425T123000Z
DTEND:20260425T133000Z
LOCATION:Schifffahrtsmuseum Fischhalle Wall 65\,  24103 Kiel
SUMMARY:â€žSouvenirs\,  Souvenirs! Die Geschichte der Seefahrer-Andenkenâ€œ â€“ ThemenfÃ¼hrung mit der Kunsthistorikerin Dr. Birte Gaethke
DESCRIPTION:Wer hat nicht von AusflÃ¼gen und Reisen selbst Gesammeltes\,  s
 elbst Fotografiertes oder auch in LÃ¤den ErstÃ¶bertes mitgebracht? Ob von P
 ilgerfahrten\,  Handels- oder Urlaubsreisen\,  militÃ¤rischen EinsÃ¤tzen â€
 “ sobald Menschen in der Fremde unterwegs sind\,  werden ErinnerungsstÃ¼cke
  mitgebracht. Bei einem Streifzug durch die Dauerausstellung entdecken wir 
 kaiserzeitliche und bis heute wohl bekannte[..]\nhttps://schleswig-holstein
 .sh/blog/veranstaltungen/souvenirs-souvenirs-die-geschichte-der-seefahrer-a
 ndenken-themenfuehrung-mit-der-kunsthistorikerin-dr-birte-gaethke/
URL:https://schleswig-holstein.sh/blog/veranstaltungen/souvenirs-souvenirs-die-geschichte-der-seefahrer-andenken-themenfuehrung-mit-der-kunsthistorikerin-dr-birte-gaethke/
END:VEVENT
END:VCALENDAR