BEGIN:VCALENDAR
VERSION:2.0
PRODID:-//eventon.com NONSGML v1.0//EN
CALSCALE:GREGORIAN
METHOD:PUBLISH
BEGIN:VEVENT
UID:69e6532761fd2
DTSTAMP:20260420T162407Z
DTSTART:20260406T143000Z
DTEND:20260406T160000Z
LOCATION:Stadtmuseum Warleberger Hof Dänische Straße 19\,  24103 Kiel
SUMMARY:„Wo geht´s denn hier zum Schloss?“
DESCRIPTION:Bei einem Stadtspaziergang treffen wir auf einen russischen Zar
 en\,  den Erfinder des Scheibenwischers und lernen die Hintergründe der De
 nkmalkultur im Schlossgarten kennen. Treffpunkt: Stadtmuseum Warleberger Ho
 f\,  Dänische Straße 19 Anmeldungen unter 0431 901 3425 Eintritt frei\nht
 tps://schleswig-holstein.sh/blog/veranstaltungen/wo-gehts-denn-hier-zum-sch
 loss/
URL:https://schleswig-holstein.sh/blog/veranstaltungen/wo-gehts-denn-hier-zum-schloss/
END:VEVENT
END:VCALENDAR