BEGIN:VCALENDAR
VERSION:2.0
PRODID:-//eventon.com NONSGML v1.0//EN
CALSCALE:GREGORIAN
METHOD:PUBLISH
BEGIN:VEVENT
UID:69e67fe87311c
DTSTAMP:20260420T193504Z
DTSTART:20260414T143000Z
DTEND:20260414T160000Z
LOCATION:
SUMMARY:„Zwischen Erinnerung und kulturellem Erbe“ – Tandemführung über den alten jüdischen Friedhof in Kiel
DESCRIPTION:Gemeinsam mit Viktoria Ladyshenski\,  Geschäftsführerin der J
 üdischen Gemeinde Kiel und Region e.V.\,  und der Historikerin Annette Mö
 rke erkunden Besucher*innen den jüdischen Friedhof. Die Führung gibt eind
 rucksvolle Einblicke in jüdische Traditionen und macht die kulturelle Viel
 falt jüdischen Lebens in Kiel sichtbar. Männliche Besucher werden gebeten
 \,  eine Kopfbedeckung zu tragen. Treffpunkt: Michelsenstraße[..]\nhttps:/
 /schleswig-holstein.sh/blog/veranstaltungen/zwischen-erinnerung-und-kulture
 llem-erbe-tandemfuehrung-ueber-den-alten-juedischen-friedhof-in-kiel-2/
URL:https://schleswig-holstein.sh/blog/veranstaltungen/zwischen-erinnerung-und-kulturellem-erbe-tandemfuehrung-ueber-den-alten-juedischen-friedhof-in-kiel-2/
END:VEVENT
END:VCALENDAR