BEGIN:VCALENDAR
VERSION:2.0
PRODID:-//eventon.com NONSGML v1.0//EN
CALSCALE:GREGORIAN
METHOD:PUBLISH
BEGIN:VEVENT
UID:69e66855ce581
DTSTAMP:20260420T175429Z
DTSTART:20260419T091500Z
DTEND:20260419T104500Z
LOCATION:
SUMMARY:„Eine Werft\,  ein Dorf“ – Stadtteilführung rund um die Metallgießerei
DESCRIPTION:Als die Gebrüder Howaldt in den 1880ern Werft und Maschinenfab
 rik an der Schwentine ansiedelten\,  brachte das einschneidende Veränderun
 gen für das ländliche Dietrichsdorf. Der 1\, 5-stündige Rundgang führt 
 zu „Lohntüten“ und „Geldbeuteln“\,  zu Gebäuden und Orten\,  an d
 enen Geschichte sichtbar wird. Hinweis: Der Rundgang führt teilweise über
  Treppen. Treffpunkt: Industriemuseum Howaldtsche Metallgießerei\, [..]\nh
 ttps://schleswig-holstein.sh/blog/veranstaltungen/eine-werft-ein-dorf-stadt
 teilfuehrung-rund-um-die-metallgiesserei/
URL:https://schleswig-holstein.sh/blog/veranstaltungen/eine-werft-ein-dorf-stadtteilfuehrung-rund-um-die-metallgiesserei/
END:VEVENT
END:VCALENDAR