BEGIN:VCALENDAR
VERSION:2.0
PRODID:-//eventon.com NONSGML v1.0//EN
CALSCALE:GREGORIAN
METHOD:PUBLISH
BEGIN:VEVENT
UID:69eb4c6566eeb
DTSTAMP:20260424T105637Z
DTSTART:20260426T090000Z
DTEND:20260426T100000Z
LOCATION:Schifffahrtsmuseum Fischhalle Wall 65\,  24103 Kiel
SUMMARY:Kinderführung: Was macht ein „Seehund“ im Museum? – Kinder entdecken die Fischhalle
DESCRIPTION:Wie baute man früher Schiffe? Welche Hilfsmittel hatten die Se
 eleute\,  um sich bei Wind und Wetter auf dem Ozean zurechtzufinden? Und wi
 e kommt eigentlich ein &#8222;Seehund&#8220; ins Museum? Auf diese und viel
 e andere kuriose Fragen rund um das Thema &#8222;Seefahrt&#8220; erhalten K
 inder ab fünf Jahren auf einem spannenden Rundgang durch[..]\nhttps://schl
 eswig-holstein.sh/blog/veranstaltungen/kinderfuehrung-was-macht-ein-seehund
 -im-museum-kinder-entdecken-die-fischhalle-3/
URL:https://schleswig-holstein.sh/blog/veranstaltungen/kinderfuehrung-was-macht-ein-seehund-im-museum-kinder-entdecken-die-fischhalle-3/
END:VEVENT
END:VCALENDAR