BEGIN:VCALENDAR
VERSION:2.0
PRODID:-//eventon.com NONSGML v1.0//EN
CALSCALE:GREGORIAN
METHOD:PUBLISH
BEGIN:VEVENT
UID:69eb8146ef702
DTSTAMP:20260424T144214Z
DTSTART:20260421T123000Z
DTEND:20260421T133000Z
LOCATION:Industriemuseum Howaldtsche Metallgießerei Grenzstraße 1\,  Kiel
SUMMARY:„Guss am Nachmittag“ Der ehemalige FH-Professor Dieter Kohtz zeigt seit mehr als 20 Jahren ehrenamtlich Gussvorführungen im Industriemuseum Howaldtsche Metallgießerei.
DESCRIPTION:Sollte Herr Kohtz verhindert sein\,  entfällt die Vorführung 
 ohne Ersatz. Herr Kohtz zeigt und erläutert ausführlich\,  wie aus Modell
 \,  Kern\,  Formsand und Formkasten eine professionelle Gussform entsteht. 
 Dabei erfährt man etwas über die Berufe in einer Gießerei und über die 
 Vorteile\,  die das Gießen gegenüber anderen Verfahren der Metallbearbeit
 ung hat.[..]\nhttps://schleswig-holstein.sh/blog/veranstaltungen/guss-am-na
 chmittag-der-ehemalige-fh-professor-dieter-kohtz-zeigt-seit-mehr-als-20-jah
 ren-ehrenamtlich-gussvorfuehrungen-im-industriemuseum-howaldtsche-metallgie
 sserei-2/
URL:https://schleswig-holstein.sh/blog/veranstaltungen/guss-am-nachmittag-der-ehemalige-fh-professor-dieter-kohtz-zeigt-seit-mehr-als-20-jahren-ehrenamtlich-gussvorfuehrungen-im-industriemuseum-howaldtsche-metallgiesserei-2/
END:VEVENT
END:VCALENDAR