BEGIN:VCALENDAR
VERSION:2.0
PRODID:-//eventon.com NONSGML v1.0//EN
CALSCALE:GREGORIAN
METHOD:PUBLISH
BEGIN:VEVENT
UID:69eb49c17e06a
DTSTAMP:20260424T104521Z
DTSTART:20260426T091500Z
DTEND:20260426T101500Z
LOCATION:Industriemuseum Howaldtsche Metallgießerei Grenzstraße 1\,  Kiel
SUMMARY:„Gussvorführung in der Metallgießerei“
DESCRIPTION:Vor dem Gießen steht die Form. Nur wenn sie fachgerecht aus Fo
 rmsand hergestellt wurde\,  kann ein einwandfreies Gussstück entstehen. Be
 i der Gussvorführung erleben Sie die wesentlichen Arbeitsschritte dieses P
 rozesses. Dabei erfahren Sie auch einiges über die Arbeitsbedingungen in d
 er Metallgießerei\,  die von 1884 bis 1980 in Betrieb war. Industriemuseum
  Howaldtsche[..]\nhttps://schleswig-holstein.sh/blog/veranstaltungen/gussvo
 rfuehrung-in-der-metallgiesserei/
URL:https://schleswig-holstein.sh/blog/veranstaltungen/gussvorfuehrung-in-der-metallgiesserei/
END:VEVENT
END:VCALENDAR