BEGIN:VCALENDAR
VERSION:2.0
PRODID:-//eventon.com NONSGML v1.0//EN
CALSCALE:GREGORIAN
METHOD:PUBLISH
BEGIN:VEVENT
UID:69e789cbbf3e3
DTSTAMP:20260421T142931Z
DTSTART:20260408T160000Z
DTEND:20260408T190000Z
LOCATION:Sinti Union Schleswig-Holstein Feldstraße 31\,  neumünster 24534\,  deutschland
SUMMARY:Sinti Union Schleswig-Holstein lädt zum Internationalen Sinti und Roma Tag ein
DESCRIPTION:Die Sinti Union Schleswig-Holstein lädt anlässlich des Intern
 ationalen Sinti und Roma Tages am 8.4. zu einer besonderen Veranstaltung in
  Neumünster ein: -Sinti-Live-Musik   -Dokumentarfilm „Der lange Weg de
 r Sinti und Roma“ (2022 mit dem Deutschen Menschenrechtsfilmpreis\,  Kate
 gorie Kurzfilm ausgezeichnet) mit anschließendem Gespräch mit dem Filmreg
 isseur Adrian Oeser\,  den Protagonisten Manolito[..]\nhttps://schleswig-ho
 lstein.sh/blog/veranstaltungen/sinti-union-schleswig-holstein-laedt-zum-int
 ernationalen-sinti-und-roma-tag-ein/
URL:https://schleswig-holstein.sh/blog/veranstaltungen/sinti-union-schleswig-holstein-laedt-zum-internationalen-sinti-und-roma-tag-ein/
END:VEVENT
END:VCALENDAR