BEGIN:VCALENDAR
VERSION:2.0
PRODID:-//eventon.com NONSGML v1.0//EN
CALSCALE:GREGORIAN
METHOD:PUBLISH
BEGIN:VEVENT
UID:69e67d0e9e778
DTSTAMP:20260420T192254Z
DTSTART:20270522T160000Z
DTEND:20270522T180000Z
LOCATION:Forum für Baukultur Waisenhofstraße 3\,  24103 Kiel
SUMMARY:Kiel: Von Hugenberg bis Musk. Die Verantwortung von Medien in Zeiten von Demokratie und autoritärer Herrschaft
DESCRIPTION:Was heißt Verantwortung der Medien und ihrer Nutzer*innen heut
 e\,  besonders für eine kritische Erinnerungskultur? Diese Frage steht im 
 Fokus der diesjährigen Ausgabe der Veranstaltungsreihe &#8222;Forum Demokr
 atie und Erinnerungskultur&#8220; am 22. Mai in Kiel. Das Thema lautet: &#8
 222;Von Hugenberg bis Musk. Die Verantwortung von Medien in Zeiten von Demo
 kratie und autoritärer[..]\nhttps://schleswig-holstein.sh/blog/veranstaltu
 ngen/kiel-von-hugenberg-bis-musk-die-verantwortung-von-medien-in-zeiten-von
 -demokratie-und-autoritaerer-herrschaft/var/ri-1.l-L1
URL:https://schleswig-holstein.sh/blog/veranstaltungen/kiel-von-hugenberg-bis-musk-die-verantwortung-von-medien-in-zeiten-von-demokratie-und-autoritaerer-herrschaft/var/ri-1.l-L1
END:VEVENT
END:VCALENDAR