BEGIN:VCALENDAR
VERSION:2.0
PRODID:-//eventon.com NONSGML v1.0//EN
CALSCALE:GREGORIAN
METHOD:PUBLISH
BEGIN:VEVENT
UID:69e7728bae9f3
DTSTAMP:20260421T125019Z
DTSTART:20260503T080000Z
DTEND:20260503T150000Z
LOCATION:Schleswig-Holsteinisches Landwirtschaftsmuseum Jungfernstieg 4\,  25704 Meldorf
SUMMARY:Kindertag
DESCRIPTION:Kinder jeden Alters können am 3. Mai beim Kindertag im Schlesw
 ig-Holsteinischen Landwirtschaftsmuseum Handwerk\,  Haus- und Landwirtschaf
 t ganz praktisch erleben. Von 10 – 17 Uhr haben die jungen Gäste Gelegen
 heit\,  sich beim Torfbacken\,  Getreide mahlen\,  Seiledrehen\,  Drechseln
 \,  Filzen und Klöppeln auszuprobieren. Beim Blaufärben lassen sich indiv
 iduelle Postkarten erstellen. Vorlesungen gibt es[..]\nhttps://schleswig-ho
 lstein.sh/blog/veranstaltungen/kindertag/
URL:https://schleswig-holstein.sh/blog/veranstaltungen/kindertag/
END:VEVENT
END:VCALENDAR