BEGIN:VCALENDAR
VERSION:2.0
PRODID:-//eventon.com NONSGML v1.0//EN
CALSCALE:GREGORIAN
METHOD:PUBLISH
BEGIN:VEVENT
UID:69ed3d088ff91
DTSTAMP:20260425T221536Z
DTSTART:20260517T080000Z
DTEND:20260517T150000Z
LOCATION:Schleswig-Holsteinisches Landwirtschaftsmuseum Jungfernstieg 4\,  25704 Meldorf
SUMMARY:Internationaler Museumstag
DESCRIPTION:Zum Internationalen Museumstag lassen sich im Schleswig-Holstei
 nischen Landwirtschaftsmuseum viele Attraktionen kostenfrei entdecken! So k
 önnen Fans von ferngesteuerten Modellfahrzeugen auf der neuen Siku- und Mo
 dellbau Anlage\,  dem „AgriDome“\,  um die Wette düsen. Es gibt die So
 nderausstellung „Pressevielfalt in der Landwirtschaft“ zu bestaunen ode
 r die Gäste können mit etwas Glück schon an[..]\nhttps://schleswig-holst
 ein.sh/blog/veranstaltungen/internationaler-museumstag-3/
URL:https://schleswig-holstein.sh/blog/veranstaltungen/internationaler-museumstag-3/
END:VEVENT
END:VCALENDAR