BEGIN:VCALENDAR
VERSION:2.0
PRODID:-//eventon.com NONSGML v1.0//EN
CALSCALE:GREGORIAN
METHOD:PUBLISH
BEGIN:VEVENT
UID:69ed2fe7518a5
DTSTAMP:20260425T211935Z
DTSTART:20260521T173000Z
DTEND:20260521T190000Z
LOCATION:Otto-von-Bismarck-Stiftung Am Bahnhof 2\,  21521 Friedrichsruh
SUMMARY:Friedrichsruh: Streit um Rang und Namen: Der Gothaische Hofkalender und der europäische Adel in der Moderne
DESCRIPTION:Der Gothaische Hofkalender gilt mit seinem genealogischen Verze
 ichnis als wichtigstes Nachschlagewerk des europäischen Adels in der Moder
 ne\,  und schon im 19. Jahrhundert war seine Autorität unter Zeitgenossen 
 nicht unangetastet. Hannah Boeddeker\,  wissenschaftliche Mitarbeiterin an 
 der Fakultät für Geisteswissenschaften der Universität Hamburg\,  zeigt 
 in ihrem Vortrag\,  dass der scheinbar eindeutigen Anordnung[..]\nhttps://s
 chleswig-holstein.sh/blog/veranstaltungen/friedrichsruh-streit-um-rang-und-
 namen-der-gothaische-hofkalender-und-der-europaeische-adel-in-der-moderne/
URL:https://schleswig-holstein.sh/blog/veranstaltungen/friedrichsruh-streit-um-rang-und-namen-der-gothaische-hofkalender-und-der-europaeische-adel-in-der-moderne/
END:VEVENT
END:VCALENDAR