BEGIN:VCALENDAR
VERSION:2.0
PRODID:-//eventon.com NONSGML v1.0//EN
CALSCALE:GREGORIAN
METHOD:PUBLISH
BEGIN:VEVENT
UID:69eb80a5a480a
DTSTAMP:20260424T143933Z
DTSTART:20260418T100000Z
DTEND:20260523T140000Z
LOCATION:
SUMMARY:Kunst des Nordens – LIZA KRÜGERMEIER im Fokus
DESCRIPTION:Am 18. April 2026 eröffnet die Galerie RIECK in Eckernförde d
 ie neue Ausstellung mit der dänischen Künstlerin Liza Krügermeier. Bekan
 nt im Norden wurde sie durch ihre Teilnahme an der NordArt 2025. Ihre Werke
  zeichnen sich durch eine intensive Auseinandersetzung mit Farbe\,  Licht u
 nd Schatten aus\,  die sie mit persönlichen Erinnerungen[..]\nhttps://schl
 eswig-holstein.sh/blog/veranstaltungen/kunst-des-nordens-liza-kruegermeier-
 im-fokus/
URL:https://schleswig-holstein.sh/blog/veranstaltungen/kunst-des-nordens-liza-kruegermeier-im-fokus/
END:VEVENT
END:VCALENDAR