BEGIN:VCALENDAR
VERSION:2.0
PRODID:-//eventon.com NONSGML v1.0//EN
CALSCALE:GREGORIAN
METHOD:PUBLISH
BEGIN:VEVENT
UID:69eb85f6dde78
DTSTAMP:20260424T150214Z
DTSTART:20260430T180000Z
DTEND:20260430T221500Z
LOCATION:Kulturwerkstatt Forum Wieksbergstraße 2-4\,  Neustadt in Holstein 23730
SUMMARY:Tanz in den Mai mit der Big Band Bad Schwartau und “Moving Souls”  im FORUM Neustadt
DESCRIPTION:Die Big Band Bad Schwartau lädt am Donnerstag\,  dem 30. April
  2026 ab 20.00 Uhr zu einem ganz besonderen “Tanz in den Mai” Abend im 
 Forum (Wieksbergstr. 2-4) nach Neustadt in Holstein ein. Nach der gelungene
 n Premiere im vergangenen Jahr in Lübeck wird mit dieser einzigartigen Ver
 anstaltung erneut ein “Tanz[..]\nhttps://schleswig-holstein.sh/blog/veran
 staltungen/tanz-in-den-mai-mit-der-big-band-bad-schwartau-und-moving-souls-
 im-forum-neustadt/
URL:https://schleswig-holstein.sh/blog/veranstaltungen/tanz-in-den-mai-mit-der-big-band-bad-schwartau-und-moving-souls-im-forum-neustadt/
END:VEVENT
END:VCALENDAR