BEGIN:VCALENDAR
VERSION:2.0
PRODID:-//eventon.com NONSGML v1.0//EN
CALSCALE:GREGORIAN
METHOD:PUBLISH
BEGIN:VEVENT
UID:69eb77eda720b
DTSTAMP:20260424T140221Z
DTSTART:20260411T160000Z
DTEND:20260424T160000Z
LOCATION:
SUMMARY:Kulturbahnhof Eutin Ausstellung GoldundRosen
DESCRIPTION:VergÃ¤nglichkeit wird zu Gold: Kunstausstellung â€žGoldundRosen
 â€œ im Kulturbahnhof Eutin â€“ Vom 11. bis 25. April 2026 verwandelt sich d
 er Kulturbahnhof Eutin in einen Ort der besonderen Ã„sthetik. Unter dem KÃ¼
 nstlernamen â€žGoldundRosenâ€œ (auch bekannt als â€žSeemyartwithyourheartâ€
 œ und â€žNichtWichtigâ€œ) wird eine Werkschau prÃ¤sentiert\,  die sich auf 
 ungewÃ¶hnliche Weise mit VergÃ¤nglichkeit\,  SchÃ¶nheit und[..]\nhttps://sc
 hleswig-holstein.sh/blog/veranstaltungen/kulturbahnhof-eutin-ausstellung-go
 ldundrosen/
URL:https://schleswig-holstein.sh/blog/veranstaltungen/kulturbahnhof-eutin-ausstellung-goldundrosen/
END:VEVENT
END:VCALENDAR