BEGIN:VCALENDAR
VERSION:2.0
PRODID:-//eventon.com NONSGML v1.0//EN
CALSCALE:GREGORIAN
METHOD:PUBLISH
BEGIN:VEVENT
UID:69eb4c870b8c4
DTSTAMP:20260424T105711Z
DTSTART:20260430T170000Z
DTEND:20260430T090000Z
LOCATION:Palais für aktuelle Kunst Am Hafen 46\,  25348 Glückstadt
SUMMARY:Caravanparty
DESCRIPTION:Heute wird der &#8222;Caravan&#8220; von Peter F. Piening gefei
 ert! Das begehbare Großobjekt ist detailliert mit allem und noch viel mehr
  ausgestattet\,  was man auf Reisen so unbedingt braucht.\nhttps://schleswi
 g-holstein.sh/blog/veranstaltungen/caravanparty/
URL:https://schleswig-holstein.sh/blog/veranstaltungen/caravanparty/
END:VEVENT
END:VCALENDAR