BEGIN:VCALENDAR
VERSION:2.0
PRODID:-//eventon.com NONSGML v1.0//EN
CALSCALE:GREGORIAN
METHOD:PUBLISH
BEGIN:VEVENT
UID:69e789ce66478
DTSTAMP:20260421T142934Z
DTSTART:20260507T170000Z
DTEND:20260507T090000Z
LOCATION:PaK - Palais für aktuelle Kunst e.V. Am Hafen 46\,  25348 Glückstadt
SUMMARY:Kunst.Sprech.Stunde
DESCRIPTION:Wir betrachten gemeinsam zwei ausgewählte Arbeiten\,  um ansch
 ließend über die Objekte zu sprechen\nhttps://schleswig-holstein.sh/blog/
 veranstaltungen/kunst-sprech-stunde/
URL:https://schleswig-holstein.sh/blog/veranstaltungen/kunst-sprech-stunde/
END:VEVENT
END:VCALENDAR