BEGIN:VCALENDAR
VERSION:2.0
PRODID:-//eventon.com NONSGML v1.0//EN
CALSCALE:GREGORIAN
METHOD:PUBLISH
BEGIN:VEVENT
UID:69e66855334d0
DTSTAMP:20260420T175429Z
DTSTART:20260518T170000Z
DTEND:20260518T180000Z
LOCATION:Online über Zoom
SUMMARY:Kiel: Das Kuchen-Paradox: Trotz gesunder Ernährung und Bewegung übergewichtig?
DESCRIPTION:Online-Vortrag von Dr. med. Tim Hollstein (Institut für Diabet
 ologie und klinische Stoffwechselforschung des UKSH) Warum nehmen manche sc
 hon vom Anschauen eines Kuchens zu\,  während andere scheinbar essen könn
 en\,  was sie wollen? Tim Hollstein erklärt das Kuchenparadox: Unser Körp
 er hat unterschiedliche Stoffwechsel-Modi – sparsam oder verschwenderisch
 . Früher half das beim Überleben\, [..]\nhttps://schleswig-holstein.sh/bl
 og/veranstaltungen/kiel-das-kuchen-paradox-trotz-gesunder-ernaehrung-und-be
 wegung-uebergewichtig/
URL:https://schleswig-holstein.sh/blog/veranstaltungen/kiel-das-kuchen-paradox-trotz-gesunder-ernaehrung-und-bewegung-uebergewichtig/
END:VEVENT
END:VCALENDAR