BEGIN:VCALENDAR
VERSION:2.0
PRODID:-//eventon.com NONSGML v1.0//EN
CALSCALE:GREGORIAN
METHOD:PUBLISH
BEGIN:VEVENT
UID:69e6b33baacb6
DTSTAMP:20260420T231403Z
DTSTART:20260615T170000Z
DTEND:20260615T180000Z
LOCATION:Online über Zoom
SUMMARY:Kiel: Verkehrssteuerung für den Nord-Ostsee-Kanal: Wie kommen Schiffe durch die meistbefahrene künstliche Wasserstraße der Welt?
DESCRIPTION:Online-Vortrag von Prof. Dr. Frank Meisel (Institut für BWL\, 
  Professur für Supply Chain Management der CAU) Der Nord-Ostsee-Kanal zäh
 lt mit circa 30000 Schiffspassagen pro Jahr zu den weltweit am stärksten b
 efahrenen künstlichen Wasserwegen. Die Nutzung des knapp 100 Kilometer lan
 gen Kanals spart Schiffen mehrere hundert Kilometer an Wegstrecke\,  vergli
 chen mit[..]\nhttps://schleswig-holstein.sh/blog/veranstaltungen/kiel-verke
 hrssteuerung-fuer-den-nord-ostsee-kanal-wie-kommen-schiffe-durch-die-meistb
 efahrene-kuenstliche-wasserstrasse-der-welt/
URL:https://schleswig-holstein.sh/blog/veranstaltungen/kiel-verkehrssteuerung-fuer-den-nord-ostsee-kanal-wie-kommen-schiffe-durch-die-meistbefahrene-kuenstliche-wasserstrasse-der-welt/
END:VEVENT
END:VCALENDAR