BEGIN:VCALENDAR
VERSION:2.0
PRODID:-//eventon.com NONSGML v1.0//EN
CALSCALE:GREGORIAN
METHOD:PUBLISH
BEGIN:VEVENT
UID:69e65371d5624
DTSTAMP:20260420T162521Z
DTSTART:20260720T170000Z
DTEND:20260720T180000Z
LOCATION:Online über Zoom
SUMMARY:Kiel: Nachhaltigkeit: Traditionen\,  Konzepte und Strategien
DESCRIPTION:Online-Vortrag von Prof. Dr. Konrad Ott (Institut für BWL der 
 CAU\,  Professur für Supply Chain Management) Der Begriff der Nachhaltigke
 it hat eine 300jährige Tradition. Seit 40 Jahren ist er zum geflügelten B
 egriff der internationalen Umwelt- und Entwicklungspolitik geworden. Im ver
 gangenen Jahr wurden auf UN-Ebene 17 sogenannte „Sustainable Development 
 Goals“ verabschiedet.[..]\nhttps://schleswig-holstein.sh/blog/veranstaltu
 ngen/kiel-nachhaltigkeit-traditionen-konzepte-und-strategien/
URL:https://schleswig-holstein.sh/blog/veranstaltungen/kiel-nachhaltigkeit-traditionen-konzepte-und-strategien/
END:VEVENT
END:VCALENDAR