BEGIN:VCALENDAR
VERSION:2.0
PRODID:-//eventon.com NONSGML v1.0//EN
CALSCALE:GREGORIAN
METHOD:PUBLISH
BEGIN:VEVENT
UID:69e6534f95247
DTSTAMP:20260420T162447Z
DTSTART:20260818T170000Z
DTEND:20260818T180000Z
LOCATION:Online über Zoom
SUMMARY:Kiel: Kann der Sektor Landwirtschaft in SH klimaneutral werden?
DESCRIPTION:Online-Vortrag von Prof. Dr. Friedhelm Taube (Institut für Pfl
 anzenbau und Pflanzenzüchtung der CAU) Das Klimaschutzgesetz verlangt\,  D
 eutschland bis 2045 klimaneutral zu machen &#8211; SH hat sich darüber hin
 aus verpflichtet\,  dieses Ziel bis 2040 zu erreichen. Angesichts der Tatsa
 che\,  dass derzeit mehr als 40% der Treibhausgas (THG) -Emissionen in SH d
 en[..]\nhttps://schleswig-holstein.sh/blog/veranstaltungen/kiel-kann-der-se
 ktor-landwirtschaft-in-sh-klimaneutral-werden/
URL:https://schleswig-holstein.sh/blog/veranstaltungen/kiel-kann-der-sektor-landwirtschaft-in-sh-klimaneutral-werden/
END:VEVENT
END:VCALENDAR