BEGIN:VCALENDAR
VERSION:2.0
PRODID:-//eventon.com NONSGML v1.0//EN
CALSCALE:GREGORIAN
METHOD:PUBLISH
BEGIN:VEVENT
UID:69ed3b8817d38
DTSTAMP:20260425T220912Z
DTSTART:20260528T130000Z
DTEND:20260528T160000Z
LOCATION:Schloss Reinbek SchloÃŸstraÃŸe 5\,  21465 Reinbek
SUMMARY:Aufwind! Festival
DESCRIPTION:Nachhaltigkeitsthemen kreativ durch LesefÃ¶rderung vermitteln â
 €“ auch in 2026 beschÃ¤ftigen sich Stormarner Kinder und Jugendliche aus ac
 ht Schulen mit den Elbautor*innen mit den Nachhaltigkeitszielen der Agenda 
 2030. Die Ergebnisse werden beim Aufwind! Festival! im Schloss Reinbek der 
 Ã–ffentlichkeit prÃ¤sentiert. Am diesem Nachmittag wird es wieder ein bunte
 s Rahmenprogramm fÃ¼r die[..]\nhttps://schleswig-holstein.sh/blog/veranstal
 tungen/aufwind-festival/
URL:https://schleswig-holstein.sh/blog/veranstaltungen/aufwind-festival/
END:VEVENT
END:VCALENDAR