BEGIN:VCALENDAR
VERSION:2.0
PRODID:-//eventon.com NONSGML v1.0//EN
CALSCALE:GREGORIAN
METHOD:PUBLISH
BEGIN:VEVENT
UID:69e668502d5e5
DTSTAMP:20260420T175424Z
DTSTART:20260509T130000Z
DTEND:20260509T160000Z
LOCATION:Gitronik HandpanShop Hamburg Fuhlsbüttlerstraße 681\, Hamburg Ohlsdorf
SUMMARY:Handpan Workshop (Für Anfänger*innen) Hamburg -Wir freuen uns auf dich!
DESCRIPTION:✅Alles für den perfekten Einstieg! In diesem Workshop lernen
  die Handpan-Newcomer*innen alles\,  was nötig ist\,  um mit der Handpan l
 oszulegen. In der Pause und im Anschluss ist noch ausreichend Zeit für ein
 e Tasse Kaffee oder Tee\,  Kuchen und natürlich für Fragen und zum Auspro
 bieren verschiedener Instrumente INHALT: ✅Koordinationstechniken · Spiel
 techniken[..]\nhttps://schleswig-holstein.sh/blog/veranstaltungen/handpan-w
 orkshop-fuer-anfaengerinnen-hamburg-wir-freuen-uns-auf-dich/
URL:https://schleswig-holstein.sh/blog/veranstaltungen/handpan-workshop-fuer-anfaengerinnen-hamburg-wir-freuen-uns-auf-dich/
END:VEVENT
END:VCALENDAR