BEGIN:VCALENDAR
VERSION:2.0
PRODID:-//eventon.com NONSGML v1.0//EN
CALSCALE:GREGORIAN
METHOD:PUBLISH
BEGIN:VEVENT
UID:69e6534d6285e
DTSTAMP:20260420T162445Z
DTSTART:20260526T150000Z
DTEND:20260526T171500Z
LOCATION:Kulturbahnhof (KuBah) Eutin 23701 Eutin\,  Eutin\,  Schleswig-Holstein 23701\,  Deutschland\,  Eutin\,  Schleswig-Holstein\,  Deutschland\,  Eutin\,  Schleswig-Holstein\,  Deutschland\,  Eutin\,  Schleswig-Holstein\,  Deutschland\,  Eutin\,  Schleswig-Holstein\,  Deutschland
SUMMARY:Kulturbahnhof (KuBah) Eutin- Workshop-Plakatgestaltung „80 Jahre Schleswig-Holstein“
DESCRIPTION:80 Jahre Schleswig-Holstein Am 23. August 1946 wurde das Bundes
 land Schleswig-Holstein gegründet. Wir feiern in diesem Jahr seinen 80 Geb
 urtstag. Der Kreis der Künste in Eutin e. V. möchte Sie einladen\,  aktiv
  mitzufeiern. Dazu bieten wir unter der Leitung des renommierten Kieler Kü
 nstlers Alexander Torday (atelier-torday.de) einen Workshop im Kulturbahnho
 f[..]\nhttps://schleswig-holstein.sh/blog/veranstaltungen/kulturbahnhof-kub
 ah-eutin-workshop-plakatgestaltung-80-jahre-schleswig-holstein-2/
URL:https://schleswig-holstein.sh/blog/veranstaltungen/kulturbahnhof-kubah-eutin-workshop-plakatgestaltung-80-jahre-schleswig-holstein-2/
END:VEVENT
END:VCALENDAR