BEGIN:VCALENDAR
VERSION:2.0
PRODID:-//eventon.com NONSGML v1.0//EN
CALSCALE:GREGORIAN
METHOD:PUBLISH
BEGIN:VEVENT
UID:69eb49cad6a8d
DTSTAMP:20260424T104530Z
DTSTART:20260411T130000Z
DTEND:20260607T130000Z
LOCATION:Galerie Atelier III Rantzau 11\,  25355 Barmstedt
SUMMARY:Farbe Struktur und Poesie | Kunstausstellung konkrete Malerei und Upcycling Kunst
DESCRIPTION:Zwei sehr unterschiedliche und Kontrastive Künstler werden die
  kommende Ausstellung in der Galerie Atelier III mit ihren ungewöhnlichen 
 Werken in einen spannenden Dialog verwandeln. Der Hamburger Künstler Bernd
  Muss\,  erschafft plastische Arbeiten\,  die sich auf maritime Upcycling K
 unst konzentrieren. Es sind einzigartige Objekte\,  die aus gestrandeten Ma
 terialien und Fundstücken am[..]\nhttps://schleswig-holstein.sh/blog/veran
 staltungen/farbe-struktur-und-poesie/
URL:https://schleswig-holstein.sh/blog/veranstaltungen/farbe-struktur-und-poesie/
END:VEVENT
END:VCALENDAR