BEGIN:VCALENDAR
VERSION:2.0
PRODID:-//eventon.com NONSGML v1.0//EN
CALSCALE:GREGORIAN
METHOD:PUBLISH
BEGIN:VEVENT
UID:69ecc1e80b547
DTSTAMP:20260425T133016Z
DTSTART:20260607T080000Z
DTEND:20260607T140000Z
LOCATION:Ansgarwiese Busdorf Am Haddebyer Noor 3\,  Busdorf\,  Kreis Schleswig-Flensburg 24866\,  Germany
SUMMARY:Welterbe-Feier Haithabu und Danewerk 2026
DESCRIPTION:am Sonntag\,  den 7. Juni 2026\,  findet der alljährliche deut
 schlandweite UNESCO-Welterbetag statt. Anlässlich dieses besonderen Tages 
 feiern wir in diesem Jahr eine regionale Welterbe-Feier! Gemeinsam laden da
 s Amt Haddeby\,  die Gemeinde Busdorf\,  die Kirchengemeinde Busdorf\,  die
  Feuerwehr Busdorf und der Haithabu und Danewerk e.V. auf die Ansgarwiese e
 in. Besucherinnen und[..]\nhttps://schleswig-holstein.sh/blog/veranstaltung
 en/welterbe-feier-haithabu-und-danewerk-2026/
URL:https://schleswig-holstein.sh/blog/veranstaltungen/welterbe-feier-haithabu-und-danewerk-2026/
END:VEVENT
END:VCALENDAR