BEGIN:VCALENDAR
VERSION:2.0
PRODID:-//eventon.com NONSGML v1.0//EN
CALSCALE:GREGORIAN
METHOD:PUBLISH
BEGIN:VEVENT
UID:69eb7d20d1828
DTSTAMP:20260424T142432Z
DTSTART:20260424T170000Z
DTEND:20260424T203000Z
LOCATION:
SUMMARY:Vernissage der Künstlerin Carmen Botermann
DESCRIPTION:Carmen Botermann malt seit Jahren die einzigartige Insel Helgol
 and und auch in ihren jüngsten Werken spielt die Insel eine prominente Rol
 le.\nhttps://schleswig-holstein.sh/blog/veranstaltungen/vernissage-der-kuen
 stlerin-carmen-botermann/
URL:https://schleswig-holstein.sh/blog/veranstaltungen/vernissage-der-kuenstlerin-carmen-botermann/
END:VEVENT
END:VCALENDAR