BEGIN:VCALENDAR
VERSION:2.0
PRODID:-//eventon.com NONSGML v1.0//EN
CALSCALE:GREGORIAN
METHOD:PUBLISH
BEGIN:VEVENT
UID:69e79e2be7ea6
DTSTAMP:20260421T155627Z
DTSTART:20260522T180000Z
DTEND:20260522T200000Z
LOCATION:Gemeindehaus Ausacker Stockbrückstraße 1\,  Ausacker 24975\,  Deutschland
SUMMARY:Schalalalala
DESCRIPTION:Wir treffen uns in geselliger Atmosphäre und singen mit allen 
 alles: Gassenhauer und Evergreens\,  Chart-Hits und Schlager und ab und zu 
 ein Volkslied. Zu Songs von Anita bis Zombie und von ABBA bis Zappa kann Je
 der mitmachen. Niemand braucht sich um Texte zu kümmern\,  denn die werden
  an die Wand[..]\nhttps://schleswig-holstein.sh/blog/veranstaltungen/schala
 lalala/
URL:https://schleswig-holstein.sh/blog/veranstaltungen/schalalalala/
END:VEVENT
END:VCALENDAR