BEGIN:VCALENDAR
VERSION:2.0
PRODID:-//eventon.com NONSGML v1.0//EN
CALSCALE:GREGORIAN
METHOD:PUBLISH
BEGIN:VEVENT
UID:69e77294285e6
DTSTAMP:20260421T125028Z
DTSTART:20260521T170000Z
DTEND:20260521T193000Z
LOCATION:Gaststätte Meraki Glücksburger Straße 1a\,  Husby 24975\,  Deutschland
SUMMARY:Kneipenquiz im Meraki
DESCRIPTION:Anmeldung bei Wolfgang unter biegemann@gmail.com oder 015234722
 743 5€ Kneipenquiz &#8211; Was ist das? Barbara\,  Sibylle und Wolfgang o
 rganisieren die 5er-Gruppen\,  die zusammen knobeln und raten. Es gibt Prei
 s und Ehr.\nhttps://schleswig-holstein.sh/blog/veranstaltungen/kneipenquiz-
 im-meraki/
URL:https://schleswig-holstein.sh/blog/veranstaltungen/kneipenquiz-im-meraki/
END:VEVENT
END:VCALENDAR