BEGIN:VCALENDAR
VERSION:2.0
PRODID:-//eventon.com NONSGML v1.0//EN
CALSCALE:GREGORIAN
METHOD:PUBLISH
BEGIN:VEVENT
UID:69ed3dbca302b
DTSTAMP:20260425T221836Z
DTSTART:20260501T090000Z
DTEND:20260501T150000Z
LOCATION:
SUMMARY:Mai Konzert 100 Jahre Musikzug der Freiwilligen Feuerwehr Henstedt-Ulzburg
DESCRIPTION:m 16. April 1926 wurde auf einer außerordentlichen Jahreshaupt
 versammlung der Freiwilligen Feuerwehr Ulzburg die Gründung einer Musikkap
 elle beschlossen – der erste Kapellmeister war Willy Witter. Diesen beson
 deren Geburtstag feiern wir gemeinsam mit den Musikzügen aus Garstedt\,  G
 roßenaspe und Hartenholm mit einem großen Musikfest im Rahmen unseres tra
 ditionellen Maifestes\,  unter der[..]\nhttps://schleswig-holstein.sh/blog/
 veranstaltungen/mai-konzert-100-jahre-musikzug-der-freiwilligen-feuerwehr-h
 enstedt-ulzburg/
URL:https://schleswig-holstein.sh/blog/veranstaltungen/mai-konzert-100-jahre-musikzug-der-freiwilligen-feuerwehr-henstedt-ulzburg/
END:VEVENT
END:VCALENDAR