BEGIN:VCALENDAR
VERSION:2.0
PRODID:-//eventon.com NONSGML v1.0//EN
CALSCALE:GREGORIAN
METHOD:PUBLISH
BEGIN:VEVENT
UID:69eb629f07711
DTSTAMP:20260424T123127Z
DTSTART:20260426T130000Z
DTEND:20260426T160000Z
LOCATION:Künstlerhaus Lauenburg Elbstrasse 54\,  21481 Lauenburg
SUMMARY:Lauenburg: »LUFT 1« (Hör / Stück) – Hanne Römer im Künstler:innenhaus Lauenburg
DESCRIPTION:Das Künstler:innenhaus Lauenburg lädt im Rahmen der Ausstellu
 ng „Resonanzen“ zu dem Hörstück „Luft 1“ der ehemaligen Literatur
 stipendiatin und renommierten Autorin Hanne Römer ein. Hanne Römer arbeit
 et an der Schnittstelle von Literatur\,  visueller und akustischer Kunst. I
 hr Hörstück ist ein mehrstimmiger Monolog einer fiktiven Forscherin. Turb
 ulenzen\,  Tiere\,  Tusche\,  Töne – alles[..]\nhttps://schleswig-holste
 in.sh/blog/veranstaltungen/lauenburg-luft-1-hoer-stueck-hanne-roemer-im-kue
 nstlerinnenhaus-lauenburg/
URL:https://schleswig-holstein.sh/blog/veranstaltungen/lauenburg-luft-1-hoer-stueck-hanne-roemer-im-kuenstlerinnenhaus-lauenburg/
END:VEVENT
END:VCALENDAR