BEGIN:VCALENDAR
VERSION:2.0
PRODID:-//eventon.com NONSGML v1.0//EN
CALSCALE:GREGORIAN
METHOD:PUBLISH
BEGIN:VEVENT
UID:69e79e2628955
DTSTAMP:20260421T155622Z
DTSTART:20260414T160000Z
DTEND:20260414T215900Z
LOCATION:Rathausmarkt Lübeck Markt
SUMMARY:Interreligiöses Friedensgebet
DESCRIPTION:„In Lübeck aufeinander zugehen. Gegenseitig Hoffnung schenke
 n.“ Unter diesem Leitgedanken lädt ein breiter Zusammenschluss unterschi
 edlicher Religionsgemeinden aus Lübeck zu einem interreligiösen Friedensg
 ebet auf den Lübecker Marktplatz ein. Eingeladen sind ausdrücklich alle M
 enschen\,  unabhängig von Glauben oder Weltanschauung. Zum Zusammenschluss
  gehören die Jüdische Gemeinde Lübeck\,  die Alevitische Gemeinde Lübec
 k e. V.\,  die[..]\nhttps://schleswig-holstein.sh/blog/veranstaltungen/in
 terreligioeses-friedensgebet/
URL:https://schleswig-holstein.sh/blog/veranstaltungen/interreligioeses-friedensgebet/
END:VEVENT
END:VCALENDAR