BEGIN:VCALENDAR
VERSION:2.0
PRODID:-//eventon.com NONSGML v1.0//EN
CALSCALE:GREGORIAN
METHOD:PUBLISH
BEGIN:VEVENT
UID:69eb674aa884f
DTSTAMP:20260424T125122Z
DTSTART:20260422T170000Z
DTEND:20260422T190000Z
LOCATION:Gemeindebücherei Kronshagen 24119 Kronshagen\,  Kopperpahler Allee 63
SUMMARY:Kronshagen: Flucht über die Ostsee 1945
DESCRIPTION:Auf Einladung des Kultur Kreises Kronshagen hält Dr. Dieter Ha
 rtwig\,  Fregattenkapitän a. D.\,  einen Vortrag über das Ende des 2. Wel
 tkrieges und die damit verbundenen Flüchtlingsströme aus den damaligen de
 utschen Ostgebieten über die Ostsee.\nhttps://schleswig-holstein.sh/blog/v
 eranstaltungen/kronshagen-flucht-ueber-die-ostsee-1945-2/
URL:https://schleswig-holstein.sh/blog/veranstaltungen/kronshagen-flucht-ueber-die-ostsee-1945-2/
END:VEVENT
END:VCALENDAR